BEGIN:VCALENDAR
VERSION:2.0
PRODID:< http://www.open2c.de/ >
METHOD:PUBLISH
X-PUBLISHED-TTL:PT12H
BEGIN:VEVENT
CREATED:20260227T093700Z
LAST-MODIFIED:20260303T075114Z
DTSTAMP:20260423T123538Z
DTSTART:20260414T100000Z
DTEND:20260414T180000Z
CATEGORIES:Kurs / Seminar
SUMMARY:Stefan Rosenboom | Fotoworkshop
DESCRIPTION:Reflexionen und Ebenen   Der Tages-Fotoworkshop beginnt direkt
	 am Kultur­zentrum Waitzinger Keller. Wir gehen in die Altstadt von Miesb
	ach auf der Suche nach Reflexionen und Ebenen. Entdecken eine andere Art d
	er Fotografie und Bildgestaltung: Fotografie als Weg. Und nur im Moment de
	s Auslösens hält alles Sehen und Spüren für einen Atemzug inne. Die Ka
	mera (egal ob Handy- oder Profi-Kamera) – beseelt durch diesen Augenblic
	k.   Im Anschluss gestalten wir in den Räumlichkeiten der Ausstellung 
	„Augenwege“ eine kleine Multivisionsshow mit dem entstandenen Material
	 der Teilnehmer.     Teilnehmerzahl: max. 10 Tages-Kursgebühr: 75 € i
	nkl. USB-Stick mit der entstandenen Show Mittags Einkehr in Miesbach (nich
	t in Kursgebühr enthalten)   Anmeldung unter ticket@waitzinger-keller.de
	 oder 08025 7000-0   
LOCATION:Kulturzentrum Waitzinger Keller Miesbach\nSchlierseer Str. 16\n83714 Miesbach\nTel. 08025 7000-0\nticket@waitzinger-keller.de
UID:b80d017a61886aad18413d8d86ce4887@b98dc2c00c8e584d9aa5ef4de28dd391
END:VEVENT
END:VCALENDAR