BEGIN:VCALENDAR
VERSION:2.0
PRODID:< http://www.open2c.de/ >
METHOD:PUBLISH
X-PUBLISHED-TTL:PT12H
BEGIN:VEVENT
CREATED:20260218T101228Z
LAST-MODIFIED:20260218T101942Z
DTSTAMP:20260423T103045Z
DTSTART;VALUE=DATE:20261115
CATEGORIES:Musical / Oper / Operette
SUMMARY:Hakuna Matata
DESCRIPTION:Kindermusical-Gala   Die Kindermusical-Gala „Hakuna Matata
	“ verspricht eine zauberhafte Reise durch die bunte Welt der Musicals\, d
	en bekanntesten Disney-Filmen\, sowie den beliebtesten Kinderfilmen-und Ser
	ien und berührt die Herzen aller Generationen. Mit den großen Kindheits-
	Helden und mitreißenden Liedern zum Mitsingen und Tanzen wird diese Gala 
	zu einem unvergesslichen Erlebnis für die ganze Familie.   Tauchen Sie e
	in in eine magische Welt und lassen Sie sich von den bekannten Melodien un
	d Songs von „Die Eiskönigin“\, „König der Löwen“\, dem kleinen Dr
	achen „Tabaluga“\, den Schlümpfen“\, „Rapunzel neu verföhnt“\, 
	„Vajana“\, „Merida“\, „Arielle der kleinen Meerjungfrau“ uva. ve
	rzaubern. Erleben Sie wunderschöne Kostüme und innovative Bühnenbilder 
	und lassen sie sich entführen in eine märchenhafte Welt. Erleben Sie ech
	te Familienunterhaltung mit leuchtenden Kinderaugen.   Geeignet für Kind
	er ab 4 Jahren   Veranstalter: Why Not Events UG     Karten Kategorie 1
	: 37 € (Erwachsene)\, 31 € (Kinder) Kategorie 2: 33 € (Erwachsene)\, 2
	8 € (Kinder) Kategorie 3: 29 € (Erwachsene)\, 26 € (Kinder) Kategorie
	 4: 26 € (Erwachsene)\, 23 € (Kinder)   Tickets über München Ticket 
	buchen (zzgl. Gebühren)    
LOCATION:Kulturzentrum Waitzinger Keller Miesbach\nSchlierseer Str. 16\n83714 Miesbach\nTel. 08025 7000-0\nticket@waitzinger-keller.de
UID:41bdc6738f7b5f6f08b72d6c6e8424b8@b98dc2c00c8e584d9aa5ef4de28dd391
END:VEVENT
END:VCALENDAR