BEGIN:VCALENDAR
VERSION:2.0
PRODID:< http://www.open2c.de/ >
METHOD:PUBLISH
X-PUBLISHED-TTL:PT12H
BEGIN:VEVENT
CREATED:20260127T121946Z
LAST-MODIFIED:20260129T140949Z
ORGANIZER;CN="Theater Liberi"
DTSTAMP:20260423T122952Z
DTSTART;VALUE=DATE:20261217
CATEGORIES:Musical / Oper / Operette
SUMMARY:Die Schöne und das Biest - das Musical
DESCRIPTION:Familienmusical   Taucht ein in die wohl schönste Liebesgesch
	ichte aller Zeiten – zauberhaft inszeniert für die ganze Familie. Lasst
	 euch von unserem erstklassigen Ensemble begeistern\, das mit humorvollen S
	zenen\, romantischen Balladen und mitreißenden Choreografien verzaubert. E
	rlebt ein unvergessliches Musical-Highlight voller Magie und Emotionen! Ge
	eignet ab 4 Jahren\, Dauer 120 Minuten inkl. Pause   Veranstalter: Theater
	 Liberi     Karten Kategorie 1: 33 € (Erwachsene)\, 31 € (Kinder bis 
	14 Jahre) Kategorie 2: 28 € (Erwachsene)\, 26 € (Kinder bis 14 Jahre) 
	  bestellbar unter Tel. 08025 7000-0 oder ticket@waitzinger-keller.de Tic
	kets über Eventim buchen (zzgl. Gebühren) Tickets über München Ticket 
	buchen (zzgl. Gebühren)   Tisch im Culinaria Restaurant reservieren   O
	rganisator Theater Liberi
LOCATION:Kulturzentrum Waitzinger Keller Miesbach\nSchlierseer Str. 16\n83714 Miesbach
UID:2c1ce844e0e253fc918987ad790aab13@b98dc2c00c8e584d9aa5ef4de28dd391
END:VEVENT
END:VCALENDAR