BEGIN:VCALENDAR
VERSION:2.0
PRODID:< http://www.open2c.de/ >
METHOD:PUBLISH
X-PUBLISHED-TTL:PT12H
BEGIN:VEVENT
CREATED:20251218T101345Z
LAST-MODIFIED:20251222T085639Z
DTSTAMP:20260423T123919Z
DTSTART;VALUE=DATE:20260419
CATEGORIES:Verschiedenes
SUMMARY:Pablo Krause & Jonah Stabe | WunderWelten
DESCRIPTION:Zaubershow mit Live-Musik   Hier trifft preisgekrönte Zauberk
	unst auf wundervolle Musik und schafft ein Erlebnis\, das tief berührt und
	 inspiriert. Seien Sie Teil dieser außergewöhnlichen Show und entdecken 
	Sie mit uns neue WunderWelten!   Die professionellen Illusionen dieser Sh
	ow sind kreativ und einzigartig. Vergessen Sie für ein paar Stunden den A
	lltagsstress und erleben Sie eine Show\, welche Sie nicht nur in Staunen ve
	rsetzen wird. Die emotionale Klaviermusik ist der perfekte Ausgleich zu de
	n tiefgreifenden Texten und lädt Sie ein\, innezuhalten\, zu träumen und e
	infach den Moment zu genießen.     Karten Kategorie 1: 28 € Kategorie
	 2: 24 €   bestellbar unter Tel. 08025 7000-0 oder ticket@waitzinger-ke
	ller.de Tickets über Eventim buchen (zzgl. Gebühren) Tickets über Münc
	hen Ticket buchen (zzgl. Gebühren)   
LOCATION:Kulturzentrum Waitzinger Keller Miesbach\nSchlierseer Str. 16\n83714 Miesbach\nTel. 08025 7000-0\nticket@waitzinger-keller.de
UID:219c72079b69178663f66c632d0dbe21@b98dc2c00c8e584d9aa5ef4de28dd391
END:VEVENT
END:VCALENDAR