BEGIN:VCALENDAR
VERSION:2.0
PRODID:< http://www.open2c.de/ >
METHOD:PUBLISH
X-PUBLISHED-TTL:PT12H
BEGIN:VEVENT
CREATED:20251118T092034Z
LAST-MODIFIED:20260331T091619Z
DTSTAMP:20260423T102511Z
DTSTART:20260123T000000Z
DTEND:20260726T000000Z
CATEGORIES:Ausstellungen
SUMMARY:Yes\, we Schell!
DESCRIPTION:Ausstellung   Sie hat mit Regisseuren wie Helmut Käutner\, Wol
	fgang Staudte\, Luchino Visconti\, René Clement gedreht\, stand vor der Kame
	ra mit O. W. Fischer\, Marcello Mastroianni\, Yul Brynner\, Curd Jürgens\, Ma
	rlon Brando\, Gary Cooper\, Glenn Ford\, Jean Marais – um nur einige zu nen
	nen. Sie war dem breiten deutschen Publikum bekannt als Frau Behringer in 
	»Die glückliche Familie«. Sie konnte »Lächeln unter Tränen« und war
	 eine »Menschendarstellerin«.   Maria Schell war eine der bedeutendsten
	 europäischen Schauspielerinnen\, die es bis nach Hollywood schaffte und i
	nternationalen Glamour auf das Nachkriegsdeutschland streute. Die Ausstell
	ung zeigt sie in beeindruckenden Porträts\, Szenenfotos und privaten Famil
	ienaufnahmen.     Öffnungszeiten Montag bis Freitag von 9:00 bis 13:00 
	Uhr\, Donnerstag von 14:00 bis 16:00 Uhr und bei Saal-Veranstaltungen   Ei
	ntritt frei   
LOCATION:Kulturzentrum Waitzinger Keller Miesbach\nSchlierseer Str. 16\n83714 Miesbach\nTel. 08025 7000-0\nticket@waitzinger-keller.de
UID:f15bdaf195b23834e96059f044dc12cb@b98dc2c00c8e584d9aa5ef4de28dd391
END:VEVENT
BEGIN:VEVENT
CREATED:20251118T135104Z
LAST-MODIFIED:20260210T125630Z
DTSTAMP:20260423T102511Z
DTSTART:20260227T000000Z
DTEND:20260418T000000Z
CATEGORIES:Ausstellungen
SUMMARY:Stefan Rosenboom | Augenwege
DESCRIPTION:Ausstellung   Stefan Rosenboom arbeitet als freier Fotograf\, F
	ilmemacher und Autor am Rande der bayerischen Alpen und überall dort\, wo 
	das Sehen spannend und bereichernd ist. Seine Arbeiten entstehen langsam\, 
	„laufend“ zu Fuß und immer draußen\, auf Augenwegen offen für die Bi
	lder\, Menschen und Geschichten. Zeit ist der Schlüssel für seine Fotogra
	fie. Er veröffentlichte bisher 15 Bücher\, u.a. Kiyo (nominiert für den 
	Deutschen Fotobuchpreis)\, Die flliegende Jurte\, Italiens wilde Seele\, Wege
	 der Stille\, sowie die neuen Bildbände\, In den Bergen lebt die Freiheit u
	nd Hoch und Heilig gemeinsam mit Sandra Freudenberg (Multivisions-Show mit
	 Live-Lesung am 26. März).   Die Ausstellung erzählt in acht Kapiteln v
	erschiedene Geschichten\, die den Betrachter mit auf die Reise nehmen: der 
	hohe Norden\, einfaches Leben in der Jurte\, der Winter als Protagonist\, das
	 unbekannte\, wilde Japan\, Momente mit einer Tänzerin\, Kalte Wasser... Gem
	einsam mit dem bekannten „Papierretter“ Stefan Böhm werden die einzel
	nen Geschichten unterschiedlich gedruckt und präsentiert. Stefan Rosenboo
	m ist ein Erzähler mit der Kamera\, leise und eindringlich\, frei und auf e
	igenen Pfaden. Begleiten Sie ihn auf seinen Augenwegen!     Eröffnung d
	er Ausstellung: Donnerstag\, 26. Februar\, 19:00 Uhr   Öffnungszeiten Mont
	ag bis Freitag von 9:00 bis 13:00 Uhr\, Donnerstag von 14:00 bis 16:00 Uhr 
	und bei Saal-Veranstaltungen   Eintritt frei   
LOCATION:Kulturzentrum Waitzinger Keller Miesbach\nSchlierseer Str. 16\n83714 Miesbach\nTel. 08025 7000-0\nticket@waitzinger-keller.de
UID:6dbda118099e8283c49fb3ddbe2b7928@b98dc2c00c8e584d9aa5ef4de28dd391
END:VEVENT
BEGIN:VEVENT
CREATED:20251120T074606Z
LAST-MODIFIED:20260225T064024Z
DTSTAMP:20260423T102511Z
DTSTART;VALUE=DATE:20260326
CATEGORIES:Vortrag / Lesung / Multivisionsshow
SUMMARY:Stephan Rosenboom & Sandra Freudenberg | Hoch und Heilig - Pilgern in den Alpen
DESCRIPTION:Multivisionsshow mit Live-Lesung   Pilger- und Bittgangwege si
	nd für die Bewohner der Zentral-Alpen ein elementarer Bestandteil ihrer K
	ultur. Um besondere Wege und Orte wie entlegene Einsie­deleien\, abgelegen
	e Klöster und Kapellen ranken sich Geschichten und Mythen. Für das Buch 
	Hoch und Heilig – Pilgern in den Alpen haben sich Sandra Freudenberg und
	 Stefan Rosenboom auf geheimnisvolle Routen in Deutschland\, Österreich\, I
	talien und der Schweiz bege­ben\, um den Menschen\, Geschichten\, Hintergrü
	nden und Wundern nachzugehen\, die es dort zu entdecken gilt.   Erleben si
	e Bilder und Filmsequenzen auf Großleinwand\, untermalt mit Musik und begl
	eitet von live gelesenen Texten.     Karten 14 €   bestellbar unter T
	el. 08025 7000-0 oder ticket@waitzinger-keller.de Tickets über Eventim bu
	chen (zzgl. Gebühren) Tickets über München Ticket buchen (zzgl. Gebühr
	en)   Tisch im Culinaria Restaurant reservieren 
LOCATION:Kulturzentrum Waitzinger Keller Miesbach\nSchlierseer Str. 16\n83714 Miesbach\nTel. 08025 7000-0\nticket@waitzinger-keller.de
UID:db3c7ddb53b54fde195ea2c8e58470cd@b98dc2c00c8e584d9aa5ef4de28dd391
END:VEVENT
END:VCALENDAR