BEGIN:VCALENDAR
VERSION:2.0
PRODID:< http://www.open2c.de/ >
METHOD:PUBLISH
X-PUBLISHED-TTL:PT12H
BEGIN:VEVENT
CREATED:20181201T201043Z
LAST-MODIFIED:20190128T135344Z
DTSTAMP:20260421T123052Z
DTSTART:20190606T000000Z
DTEND:20190727T000000Z
CATEGORIES:Ausstellungen
SUMMARY:Junge Illustration
DESCRIPTION:Katharina Bourjau ist selbstständige Illustratorin\, sie lebtun
	d arbeitet in Tegernsee. 1990 in München geboren\,studierte sie Grafik-Des
	ign an der Akademie der BildendenKünste in Stuttgart.Zu ihren Kunden geh
	ören Magazine und Zeitungen wie: TheNew Yorker\, Süddeutsche Zeitung\, The
	 Daily Telegraph\, MonocleMagazine\, Zeit leo\, The Weekender\, Spotlight Busi
	nessund die Wirtschaftswoche. Auch findet man ihre Arbeitenunter anderem i
	n online Magazinen\, als Animationen\, aufBuchcovern\, Müsliverpackungen und
	 in der Werbung.In der Ausstellung zeigt sie Arbeiten\, die durch einen gra
	fischplakativen\, flächigen\, farbstarken Stil mitreißen. IhreBildsprache 
	und Motive sind inspiriert durch Dinge die sieumgeben\, wie Landschaft\, Mus
	ik\, Farben\, Formen und dembayrischen Humor.Vernissage am Mittwoch\, 05. Jun
	i 2019\, 19 UhrGeöffnet Mo\, Di\, Do\, Fr von 9:00 – 16:00 Uhr\; Mi 9:00 - 1
	2:00 Uhr\; Sa 9:00 – 13:00 Uhr sowie bei Veranstaltungen Eintritt frei
LOCATION:Waitzinger Keller – Kulturzentrum Miesbach\nSchlierseer Str. 16\n83714 Miesbach\nTel. 08025 7000-0\nticket@waitzinger-keller.de
UID:a126e408f965ef99982f0663e94f6c42@b98dc2c00c8e584d9aa5ef4de28dd391
END:VEVENT
BEGIN:VEVENT
CREATED:20190604T093642Z
LAST-MODIFIED:20190718T111610Z
ORGANIZER:MAILTO:Tel. 08025 7000-0\nticket@waitzinger-keller.de
DTSTAMP:20260421T123052Z
DTSTART;VALUE=DATE:20190726
CATEGORIES:Theater / Kabarett
SUMMARY:"Kiki van Beethoven" von Eric-Emmanuel Schmitt | Deutsch von Anette und Paul Bäcker
DESCRIPTION:Kiki\, eine gutaussehende Frau um die Sechzig\, setzt sichauf ein
	e Parkbank und hört lautstark Musik von Beethoven...Otto\, ein junger Mann
	\, kommt des Wegs und ist obder Heftigkeit der Szenerie irritiert.„Was is
	t das überhaupt für eine Kirchenmusik?“„Kirchenmusik? Du Blödmann. 
	Das ist die 6. Sinfonie vonBeethoven.“ Zwei Welten prallen in Form diese
	s ungleichen Paaresaufeinander. Und doch nähern sie sich auf komische\,erg
	reifende und tiefsinnige Weise einander an. Und siehaben eine gemeinsame L
	eidenschaft: Die Musik.Unter der Regie von Steffi Baier spielen TheresiaBe
	nda- Pelzer als Kiki und Andreas Nirschl als Otto. Das neue Culinaria-Team
	 freut sich darauf\, das Publikum vor\, während und nach der Vorstellung an
	gemessen zu bewirten. Einlass: 17:30 Uhr   Aufführungsrechte: Der Autor 
	Eric-Emmanuel Schmitt wird von der AgenturDominique Christophe\, Paris\, in 
	Zusammenarbeit mit Theaterverlag Desch\, Berlin\,vertreten. | www.theater-ve
	rlag-desch.de     Karten zu 18 € Weitere Termine: 27./28. Juli und 2. 
	/ 3./ 4. und 09. August 2019   Tickets bei Eventim buchen Tickets bei Mü
	nchen Ticket buchen Kontakt Tel. 08025 7000-0 ticket@waitzinger-keller.de
LOCATION:Waitzinger Keller – Kulturzentrum Miesbach\nSchlierseer Str. 16\n83714 Miesbach
UID:21aeaf7b71c746c760a6a588ffcb995e@b98dc2c00c8e584d9aa5ef4de28dd391
END:VEVENT
END:VCALENDAR