BEGIN:VCALENDAR
VERSION:2.0
PRODID:< http://www.open2c.de/ >
METHOD:PUBLISH
X-PUBLISHED-TTL:PT12H
BEGIN:VEVENT
CREATED:20250703T094947Z
LAST-MODIFIED:20250708T073940Z
DTSTAMP:20260423T090610Z
DTSTART:20250711T000000Z
DTEND:20250722T000000Z
CATEGORIES:Ausstellungen
SUMMARY:Hans-Günther Kaufmann | Wir sind Schöpfung
DESCRIPTION:Ausstellung   In den Bildern zur Ausstellung „Wir sind Schö
	pfung“\, für die Hans-Günther Kaufmann 2023 im Auftrag von Armin Lasche
	t (Abraham Accords Institute) in den Nahen Osten reiste – erreicht das S
	chaffen des Starfotografen aus Miesbach einen weiteren künstlerischen Hö
	hepunkt.     Öffnungszeiten Montag bis Freitag von 9:00 bis 13:00 Uhr\, 
	Donnerstag von 14:00 bis 16:00 Uhr - Sonderöffnungen möglich Führungen 
	durch Hans-Günther Kaufmann: Dienstag\, 15. Juli\, 14:00 Uhr Sonntag\, 20. J
	uli\, 14:00 Uhr     Eintritt frei   
LOCATION:Kulturzentrum Waitzinger Keller Miesbach\nSchlierseer Str. 16\n83714 Miesbach\nTel. 08025 7000-0\nticket@waitzinger-keller.de
UID:f26157a9598ffeec1b4a0c7cc7a6b453@b98dc2c00c8e584d9aa5ef4de28dd391
END:VEVENT
END:VCALENDAR