BEGIN:VCALENDAR
VERSION:2.0
PRODID:< http://www.open2c.de/ >
METHOD:PUBLISH
X-PUBLISHED-TTL:PT12H
BEGIN:VEVENT
CREATED:20250217T103551Z
LAST-MODIFIED:20250218T083122Z
DTSTAMP:20260423T092947Z
DTSTART:20250428T000000Z
DTEND:20250530T000000Z
CATEGORIES:Ausstellungen
SUMMARY:Candida Schlichting | NAHSICHT
DESCRIPTION:Ausstellung   Das vermeintlich leicht zugängliche\, weite Feld
	 der digitalen Fotografie\, das in unserer Zeit nicht selten zu einer über
	bordenden Flut austauschbarer Bilder führt\, wird von Candida Schlichting 
	in ganz eigener Art und Weise erschlossen. Das Augenmerk der Fotografin ri
	chtet sich vorrangig auf das Beobachten des Nahen\, wo auch immer ihr Stand
	ort sein mag: Daheim oder auf Reisen. Das Thema „Nahsicht“ lässt dabe
	i an Reichhaltigkeit keine Wünsche offen.   Wichtige Bestandteile ihrer 
	Aufnahmen sind Strukturen in ihrer grafischen Erscheinung\, bildsame Fundst
	ücke\, raffinierte Farb-\, Licht- oder Schattenspiele\, die anregen\, auf die
	 unmittelbare Umgebung aufmerksam zu werden. Kein einschränkender Titel h
	indert den Betrachter in Phantasie und Assoziationsvermögen. Kamera und D
	rucker\, die technischen Werkzeuge\, übernehmen dabei die Rolle des maleris
	chen Pinsels\, der das Gesehene auf Papier überträgt und zum Bild werden 
	lässt.   Vernissage Freitag\, 25. April 2025\, 19:00 Uhr     Öffnungsze
	iten Montag bis Freitag von 9:00 bis 13:00 Uhr\, Donnerstag von 14:00 bis 1
	6:00 Uhr und bei Saal-Veranstaltungen   Eintritt frei   
LOCATION:Kulturzentrum Waitzinger Keller Miesbach\nSchlierseer Str. 16\n83714 Miesbach\nTel. 08025 7000-0\nticket@waitzinger-keller.de
UID:d6fcd5cf7878eef95b1667bc9b192ff0@b98dc2c00c8e584d9aa5ef4de28dd391
END:VEVENT
END:VCALENDAR