BEGIN:VCALENDAR
VERSION:1.0
PRODID:Open2CKalenderExportV11
BEGIN:VEVENT
DTSTAMP:20260305T103806Z
DTSTART:20260507T190000Z
DTEND:20260507T190000Z
CATEGORIES:Konzerte
SUMMARY:Realschulkonzert
DESCRIPTION:Konzert der Gunetzrhainer Realschule Miesbach |   | Ein lebhaftes und buntes Programm quer durch viele Musikrichtungen: |   |  | Chöre, Schulband und Bandklasse mit aktuellen Songs und Oldies | Percussiongroup mit Rhythmen aus Afrika und Südamerika | Instrumentalensemble mit zarten Klängen und Ohrschmeichlern | Wooden Brass Band mit Klassik, Pop- und Filmmusik |  | Geleitet werden die Gruppen von Martina Bühler, Elena Häuserer, Katharina Meyer und Thomas Schwob. |   | Lassen Sie sich von der Freude an der Musik und der Energie der musizierenden Jugendlichen anstecken! |   |   | Karten | 12 € (Erwachsene) | 7 € (Schüler*innen) |   | bestellbar unter Tel. 08025 7000-0  | oder ticket@waitzinger-keller.de | Tickets über Eventim buchen (zzgl. Gebühren) | Tickets über München Ticket buchen (zzgl. Gebühren) |   | Tisch im Culinaria Restaurant reservieren |  |  
LOCATION:Kulturzentrum Waitzinger Keller Miesbach
 Schlierseer Str. 16
 83714 Miesbach
 Tel. 08025 7000-0
 ticket@waitzinger-keller.de
UID:58114714f00ab92dec7e30dbca8b0d71-4489f57aa2ffa125a2ca9221111c7b07
PRIORITY:3
END:VEVENT
END:VCALENDAR
