BEGIN:VCALENDAR
VERSION:1.0
PRODID:Open2CKalenderExportV11
BEGIN:VEVENT
DTSTAMP:20250220T114813Z
DTSTART:20250412T160000Z
DTEND:20250412T160000Z
CATEGORIES:Verschiedenes
SUMMARY:Max Schneider | Mit Magie an Wunder erinnern
DESCRIPTION:Zaubershow |   | Der Magier Max Schneider präsentiert im ersten Teil seines Programmes klassische Zauberei, dann geht‘s gleich weiter mit Mental-Magie, basierend auf der Geschichte des kleinen Prinzen. | Im Handumdrehen zeigt sich dabei, wie man „mit dem Herzen sehen“ kann. |   | Max Schneider ist ein echter Tausendsassa: Französisch-Lehrer, Schauspieler, tricktechnischer Berater und vor allem eines: Profi-Zauberer. | Bei seinen Shows möchte er die Zuschauer zu ihrem inneren Kind \ningen, sie vom Alltag ablenken und unterhalten. | Er zauberte mehrfach für seine Idole Siegfried &amp; Roy aus Las Vegas und ist mit seiner Show international unterwegs. |   | Ab 6 Jahren geeignet. |   | Karten | 25 € (Erwachsene) | 15 € (Kinder bis 18 Jahre) |   | bestellbar unter Tel. 08025 7000-0 oder ticket@waitzinger-keller.de | Tickets über Eventim buchen (zzgl. Gebühren) | Tickets über München Ticket buchen (zzgl. Gebühren) |   | Tisch im Culinaria Restaurant reservieren |   | 
LOCATION:Kulturzentrum Waitzinger Keller Miesbach
 Schlierseer Str. 16
 83714 Miesbach
 Tel. 08025 7000-0
 ticket@waitzinger-keller.de
UID:d91406475a3a583d9df2093d5d37299b-ecec6178790e5dbfcb98160d70c70bd1
PRIORITY:3
END:VEVENT
END:VCALENDAR
